BEGIN:VCALENDAR
VERSION:2.0
PRODID:-//ChamberMaster//Event Calendar 2.0//EN
METHOD:PUBLISH
X-PUBLISHED-TTL:P3D
REFRESH-INTERVAL:P3D
CALSCALE:GREGORIAN
BEGIN:VEVENT
DTSTART:20281227T163000Z
DTEND:20281227T170000Z
X-MICROSOFT-CDO-ALLDAYEVENT:FALSE
SUMMARY:Intermediate Strength & Resistance Class @ SnapFitness Island Lake
DESCRIPTION:Our Strength & Resistance class focuses on weighted strength training to enhance balance\, mobility and endurance. \n\nFollow us on social media for more updates and pop-up classes!
X-ALT-DESC;FMTTYPE=text/html:Our Strength &amp\; Resistance class focuses on weighted strength training to enhance balance\, mobility and endurance.&nbsp\;<br />\nFollow us on social media for more updates and pop-up classes!
LOCATION:Snap Fitness Island Lake 452 E State Rd. Island Lake\, IL
UID:e.2057.20797
SEQUENCE:3
DTSTAMP:20260421T011209Z
URL:https://business.waucondachamber.org/events/details/intermediate-strength-resistance-class-snapfitness-island-lake-12-27-2028-20797
END:VEVENT

END:VCALENDAR
