BEGIN:VCALENDAR
VERSION:2.0
PRODID:-//ChamberMaster//Event Calendar 2.0//EN
METHOD:PUBLISH
X-PUBLISHED-TTL:P3D
REFRESH-INTERVAL:P3D
CALSCALE:GREGORIAN
BEGIN:VEVENT
DTSTART:20260424T153000Z
DTEND:20260424T160000Z
X-MICROSOFT-CDO-ALLDAYEVENT:FALSE
SUMMARY:Intermediate Strength & Resistance Class @ SnapFitness Island Lake
DESCRIPTION:Our Strength & Resistance class focuses on weighted strength training to enhance balance\, mobility and endurance. \n\nFollow us on social media for more updates and pop-up classes!
X-ALT-DESC;FMTTYPE=text/html:Our Strength &amp\; Resistance class focuses on weighted strength training to enhance balance\, mobility and endurance.&nbsp\;<br />\nFollow us on social media for more updates and pop-up classes!
LOCATION:Snap Fitness Island Lake 452 E State Rd. Island Lake\, IL
UID:e.2057.20518
SEQUENCE:3
DTSTAMP:20260420T191442Z
URL:https://business.waucondachamber.org/events/details/intermediate-strength-resistance-class-snapfitness-island-lake-04-24-2026-20518
END:VEVENT

END:VCALENDAR
