BEGIN:VCALENDAR
VERSION:2.0
PRODID:-//ChamberMaster//Event Calendar 2.0//EN
METHOD:PUBLISH
X-PUBLISHED-TTL:P3D
REFRESH-INTERVAL:P3D
CALSCALE:GREGORIAN
BEGIN:VEVENT
DTSTART:20260514T140000Z
DTEND:20260514T200000Z
X-MICROSOFT-CDO-ALLDAYEVENT:FALSE
SUMMARY:Colon Cancer Screening
DESCRIPTION:Shield colon cancer screening event for qualified patients.\n\nWalk-in and by appointment.
X-ALT-DESC;FMTTYPE=text/html:Shield colon cancer screening event for qualified patients.<br />\nWalk-in and by appointment.
LOCATION:Lake Immediate Care & Clinic 521 Kora Ln. Island Lake 847-469-6971
UID:e.2057.21506
SEQUENCE:3
DTSTAMP:20260421T131300Z
URL:https://business.waucondachamber.org/events/details/colon-cancer-screening-05-14-2026-21506
END:VEVENT

END:VCALENDAR
