BEGIN:VCALENDAR
VERSION:2.0
PRODID:-//ChamberMaster//Event Calendar 2.0//EN
METHOD:PUBLISH
X-PUBLISHED-TTL:P3D
REFRESH-INTERVAL:P3D
CALSCALE:GREGORIAN
BEGIN:VEVENT
DTSTART:20290410T153000Z
DTEND:20290410T160000Z
X-MICROSOFT-CDO-ALLDAYEVENT:FALSE
SUMMARY:Beginner Core & Flexibility Class @SnapFitness Island Lake
DESCRIPTION:Our Core & Flexibility course is designed for beginners. We focus on bodyweight training and proper form\, prioritizing safe technique as we build the foundational skills needed to help you get stronger over time.\n\n\n\nFollow us on Social Media for more updates and pop up classes!
X-ALT-DESC;FMTTYPE=text/html:Our Core &amp\; Flexibility course is designed for beginners. We focus on bodyweight training and proper form\, prioritizing safe technique as we build the foundational skills needed to help you get stronger over time.<br />\n<br />\nFollow us on Social Media for more updates and pop up classes!&nbsp\;
LOCATION:Snap Fitness Island Lake
UID:e.2057.21461
SEQUENCE:3
DTSTAMP:20260421T004420Z
URL:https://business.waucondachamber.org/events/details/beginner-core-flexibility-class-snapfitness-island-lake-04-10-2029-21461
END:VEVENT

END:VCALENDAR
